BEGIN:VCALENDAR
VERSION:2.0
PRODID:-// - ECPv6.15.20//NONSGML v1.0//EN
CALSCALE:GREGORIAN
METHOD:PUBLISH
X-ORIGINAL-URL:https://landmark-online.com
X-WR-CALDESC:Events for 
REFRESH-INTERVAL;VALUE=DURATION:PT1H
X-Robots-Tag:noindex
X-PUBLISHED-TTL:PT1H
BEGIN:VTIMEZONE
TZID:America/Los_Angeles
BEGIN:DAYLIGHT
TZOFFSETFROM:-0800
TZOFFSETTO:-0700
TZNAME:PDT
DTSTART:20250309T100000
END:DAYLIGHT
BEGIN:STANDARD
TZOFFSETFROM:-0700
TZOFFSETTO:-0800
TZNAME:PST
DTSTART:20251102T090000
END:STANDARD
BEGIN:DAYLIGHT
TZOFFSETFROM:-0800
TZOFFSETTO:-0700
TZNAME:PDT
DTSTART:20260308T100000
END:DAYLIGHT
BEGIN:STANDARD
TZOFFSETFROM:-0700
TZOFFSETTO:-0800
TZNAME:PST
DTSTART:20261101T090000
END:STANDARD
BEGIN:DAYLIGHT
TZOFFSETFROM:-0800
TZOFFSETTO:-0700
TZNAME:PDT
DTSTART:20270314T100000
END:DAYLIGHT
BEGIN:STANDARD
TZOFFSETFROM:-0700
TZOFFSETTO:-0800
TZNAME:PST
DTSTART:20271107T090000
END:STANDARD
END:VTIMEZONE
BEGIN:VEVENT
DTSTART;TZID=America/Los_Angeles:20260424T090000
DTEND;TZID=America/Los_Angeles:20260424T100000
DTSTAMP:20260421T104605
CREATED:20260313T201314Z
LAST-MODIFIED:20260313T201314Z
UID:24218-1777021200-1777024800@landmark-online.com
SUMMARY:Conversation for the Difference You Make
DESCRIPTION:In this offering from the Wisdom Course Area\, you will participate in a one-to-one conversation\, conducted by a Senior Listener in the Landmark Wisdom Listening Academy\, where you will discover an entirely new relationship with some of the people in your life. You will explore who they are\, and the contribution that they make\, and the opportunity that you have to make a difference by being powerfully related with them – a difference far beyond what you likely already consider you have the opportunity to make. You’ll come away with a new context for yourself\, your relationships\, and the vast difference you make together! This call lasts approximately one hour and is free of charge. \n  \nProgram Logistics: \nTuition: Free\n[Prerequisite: The Landmark Forum] \n 
URL:https://landmark-online.com/event/conversation-for-the-difference-you-make-33/
CATEGORIES:Conversation for the Difference You Make,Wisdom
ATTACH;FMTTYPE=image/png:https://landmark-online.com/wp-content/uploads/2025/06/Conversation-for-the-Difference-You-Make-2.png
END:VEVENT
END:VCALENDAR